Package: ARRmData Version: 1.47.0 Command: /home/biocbuild/bbs-3.23-bioc/R/bin/R CMD build --keep-empty-dirs --no-resave-data ARRmData StartedAt: 2025-11-06 11:07:35 -0500 (Thu, 06 Nov 2025) EndedAt: 2025-11-06 11:07:40 -0500 (Thu, 06 Nov 2025) EllapsedTime: 4.7 seconds RetCode: 0 Status: OK PackageFile: ARRmData_1.47.0.tar.gz PackageFileSize: 56.51 MiB