Package: ARRmData Version: 1.47.0 Command: /home/biocbuild/bbs-3.23-bioc/R/bin/R CMD INSTALL ARRmData StartedAt: 2025-11-06 10:55:29 -0500 (Thu, 06 Nov 2025) EndedAt: 2025-11-06 10:55:30 -0500 (Thu, 06 Nov 2025) EllapsedTime: 1.3 seconds RetCode: 0 Status: OK