Package: ASICSdata Version: 1.31.0 Command: /home/biocbuild/bbs-3.23-bioc/R/bin/R CMD build --keep-empty-dirs --no-resave-data ASICSdata StartedAt: 2025-11-04 11:07:47 -0500 (Tue, 04 Nov 2025) EndedAt: 2025-11-04 11:08:03 -0500 (Tue, 04 Nov 2025) EllapsedTime: 15.8 seconds RetCode: 0 Status: OK PackageFile: ASICSdata_1.31.0.tar.gz PackageFileSize: 22.05 MiB