Package: AWAggregatorData Version: 1.1.0 Command: /home/biocbuild/bbs-3.23-bioc/R/bin/R CMD build --keep-empty-dirs --no-resave-data AWAggregatorData StartedAt: 2025-11-04 11:07:52 -0500 (Tue, 04 Nov 2025) EndedAt: 2025-11-04 11:11:31 -0500 (Tue, 04 Nov 2025) EllapsedTime: 219.5 seconds RetCode: 0 Status: OK PackageFile: AWAggregatorData_1.1.0.tar.gz PackageFileSize: 220.4 KiB