Package: AWAggregatorData Version: 1.1.0 Command: /home/biocbuild/bbs-3.23-bioc/R/bin/R CMD INSTALL AWAggregatorData StartedAt: 2025-11-04 10:57:15 -0500 (Tue, 04 Nov 2025) EndedAt: 2025-11-04 10:57:27 -0500 (Tue, 04 Nov 2025) EllapsedTime: 12.6 seconds RetCode: 0 Status: OK