Package: Affyhgu133Plus2Expr Version: 1.43.0 Command: /home/biocbuild/bbs-3.22-bioc/R/bin/R CMD INSTALL Affyhgu133Plus2Expr StartedAt: 2025-07-08 10:55:44 -0400 (Tue, 08 Jul 2025) EndedAt: 2025-07-08 10:55:50 -0400 (Tue, 08 Jul 2025) EllapsedTime: 6.0 seconds RetCode: 0 Status: OK