Package: Affyhgu133aExpr Version: 1.47.0 Command: /home/biocbuild/bbs-3.22-bioc/R/bin/R CMD build --keep-empty-dirs --no-resave-data Affyhgu133aExpr StartedAt: 2025-07-10 11:08:04 -0400 (Thu, 10 Jul 2025) EndedAt: 2025-07-10 11:08:26 -0400 (Thu, 10 Jul 2025) EllapsedTime: 22.0 seconds RetCode: 0 Status: OK PackageFile: Affyhgu133aExpr_1.47.0.tar.gz PackageFileSize: 316.1 MiB