Package: Affymoe4302Expr Version: 1.47.0 Command: /home/biocbuild/bbs-3.22-bioc/R/bin/R CMD build --keep-empty-dirs --no-resave-data Affymoe4302Expr StartedAt: 2025-07-08 11:07:24 -0400 (Tue, 08 Jul 2025) EndedAt: 2025-07-08 11:07:51 -0400 (Tue, 08 Jul 2025) EllapsedTime: 27.4 seconds RetCode: 0 Status: OK PackageFile: Affymoe4302Expr_1.47.0.tar.gz PackageFileSize: 417.6 MiB