Package: AmpAffyExample Version: 1.49.0 Command: /home/biocbuild/bbs-3.22-bioc/R/bin/R CMD INSTALL AmpAffyExample StartedAt: 2025-07-08 10:56:36 -0400 (Tue, 08 Jul 2025) EndedAt: 2025-07-08 10:56:40 -0400 (Tue, 08 Jul 2025) EllapsedTime: 3.5 seconds RetCode: 0 Status: OK