Package: AneuFinderData Version: 1.37.0 Command: /home/biocbuild/bbs-3.22-bioc/R/bin/R CMD build --keep-empty-dirs --no-resave-data AneuFinderData StartedAt: 2025-07-08 11:07:26 -0400 (Tue, 08 Jul 2025) EndedAt: 2025-07-08 11:07:31 -0400 (Tue, 08 Jul 2025) EllapsedTime: 5.3 seconds RetCode: 0 Status: OK PackageFile: AneuFinderData_1.37.0.tar.gz PackageFileSize: 57.02 MiB