Package: AssessORFData Version: 1.27.0 Command: /home/biocbuild/bbs-3.22-bioc/R/bin/R CMD build --keep-empty-dirs --no-resave-data AssessORFData StartedAt: 2025-07-08 11:07:33 -0400 (Tue, 08 Jul 2025) EndedAt: 2025-07-08 11:09:05 -0400 (Tue, 08 Jul 2025) EllapsedTime: 92.3 seconds RetCode: 0 Status: OK PackageFile: AssessORFData_1.27.0.tar.gz PackageFileSize: 144.6 MiB