Package: AssessORFData Version: 1.27.0 Command: /home/biocbuild/bbs-3.22-bioc/R/bin/R CMD check --install=check:AssessORFData.install-out.txt --library=/home/biocbuild/bbs-3.22-bioc/R/site-library --timings AssessORFData_1.27.0.tar.gz StartedAt: 2025-07-15 12:00:27 -0400 (Tue, 15 Jul 2025) EndedAt: 2025-07-15 12:04:38 -0400 (Tue, 15 Jul 2025) EllapsedTime: 250.8 seconds RetCode: 0 Status: OK CheckDir: AssessORFData.Rcheck Warnings: 0