Package: AssessORFData Version: 1.27.0 Command: /home/biocbuild/bbs-3.22-bioc/R/bin/R CMD INSTALL AssessORFData StartedAt: 2025-07-08 10:56:50 -0400 (Tue, 08 Jul 2025) EndedAt: 2025-07-08 10:57:36 -0400 (Tue, 08 Jul 2025) EllapsedTime: 45.7 seconds RetCode: 0 Status: OK