Package: BeadArrayUseCases Version: 1.47.0 Command: /home/biocbuild/bbs-3.22-bioc/R/bin/R CMD INSTALL BeadArrayUseCases StartedAt: 2025-07-08 10:59:32 -0400 (Tue, 08 Jul 2025) EndedAt: 2025-07-08 10:59:51 -0400 (Tue, 08 Jul 2025) EllapsedTime: 19.2 seconds RetCode: 0 Status: OK