Package: BeadSorted.Saliva.EPIC Version: 1.17.0 Command: /home/biocbuild/bbs-3.22-bioc/R/bin/R CMD INSTALL BeadSorted.Saliva.EPIC StartedAt: 2025-07-08 11:03:13 -0400 (Tue, 08 Jul 2025) EndedAt: 2025-07-08 11:03:56 -0400 (Tue, 08 Jul 2025) EllapsedTime: 43.0 seconds RetCode: 0 Status: OK