Package: BioImageDbs Version: 1.19.0 Command: /home/biocbuild/bbs-3.23-bioc/R/bin/R CMD INSTALL BioImageDbs StartedAt: 2025-11-04 10:57:57 -0500 (Tue, 04 Nov 2025) EndedAt: 2025-11-04 10:57:59 -0500 (Tue, 04 Nov 2025) EllapsedTime: 1.9 seconds RetCode: 0 Status: OK