Package: BioImageDbs Version: 1.17.0 Command: /home/biocbuild/bbs-3.22-bioc/R/bin/R CMD build --keep-empty-dirs --no-resave-data BioImageDbs StartedAt: 2025-07-08 11:07:48 -0400 (Tue, 08 Jul 2025) EndedAt: 2025-07-08 11:11:13 -0400 (Tue, 08 Jul 2025) EllapsedTime: 205.4 seconds RetCode: 0 Status: OK PackageFile: BioImageDbs_1.17.0.tar.gz PackageFileSize: 44.22 MiB