Package: BioPlex Version: 1.17.0 Command: /home/biocbuild/bbs-3.23-bioc/R/bin/R CMD INSTALL BioPlex StartedAt: 2025-11-04 10:58:52 -0500 (Tue, 04 Nov 2025) EndedAt: 2025-11-04 10:59:11 -0500 (Tue, 04 Nov 2025) EllapsedTime: 19.5 seconds RetCode: 0 Status: OK