Package: BioPlex Version: 1.15.0 Command: /home/biocbuild/bbs-3.22-bioc/R/bin/R CMD INSTALL BioPlex StartedAt: 2025-07-08 10:58:45 -0400 (Tue, 08 Jul 2025) EndedAt: 2025-07-08 10:59:04 -0400 (Tue, 08 Jul 2025) EllapsedTime: 18.4 seconds RetCode: 0 Status: OK