Package: BloodCancerMultiOmics2017 Version: 1.31.0 Command: /home/biocbuild/bbs-3.23-bioc/R/bin/R CMD build --keep-empty-dirs --no-resave-data BloodCancerMultiOmics2017 StartedAt: 2025-11-04 11:08:20 -0500 (Tue, 04 Nov 2025) EndedAt: 2025-11-04 11:38:49 -0500 (Tue, 04 Nov 2025) EllapsedTime: 1829.1 seconds RetCode: 0 Status: OK PackageFile: BloodCancerMultiOmics2017_1.31.0.tar.gz PackageFileSize: 53.69 MiB