Package: BloodCancerMultiOmics2017 Version: 1.31.0 Command: /home/biocbuild/bbs-3.23-bioc/R/bin/R CMD INSTALL BloodCancerMultiOmics2017 StartedAt: 2025-11-04 10:59:57 -0500 (Tue, 04 Nov 2025) EndedAt: 2025-11-04 11:00:45 -0500 (Tue, 04 Nov 2025) EllapsedTime: 48.4 seconds RetCode: 0 Status: OK