Package: BloodCancerMultiOmics2017 Version: 1.29.0 Command: /home/biocbuild/bbs-3.22-bioc/R/bin/R CMD build --keep-empty-dirs --no-resave-data BloodCancerMultiOmics2017 StartedAt: 2025-07-08 11:07:55 -0400 (Tue, 08 Jul 2025) EndedAt: 2025-07-08 11:37:41 -0400 (Tue, 08 Jul 2025) EllapsedTime: 1785.8 seconds RetCode: 0 Status: OK PackageFile: BloodCancerMultiOmics2017_1.29.0.tar.gz PackageFileSize: 53.69 MiB