Package: CCl4 Version: 1.49.0 Command: /home/biocbuild/bbs-3.23-bioc/R/bin/R CMD INSTALL CCl4 StartedAt: 2025-10-30 10:56:34 -0400 (Thu, 30 Oct 2025) EndedAt: 2025-10-30 10:56:45 -0400 (Thu, 30 Oct 2025) EllapsedTime: 10.5 seconds RetCode: 0 Status: OK