Package: CCl4 Version: 1.47.0 Command: /home/biocbuild/bbs-3.22-bioc/R/bin/R CMD build --keep-empty-dirs --no-resave-data CCl4 StartedAt: 2025-07-08 11:08:36 -0400 (Tue, 08 Jul 2025) EndedAt: 2025-07-08 11:09:36 -0400 (Tue, 08 Jul 2025) EllapsedTime: 59.9 seconds RetCode: 0 Status: OK PackageFile: CCl4_1.47.0.tar.gz PackageFileSize: 110.3 MiB