Package: CENTREprecomputed Version: 1.1.0 Command: /home/biocbuild/bbs-3.23-bioc/R/bin/R CMD build --keep-empty-dirs --no-resave-data CENTREprecomputed StartedAt: 2025-10-30 11:08:52 -0400 (Thu, 30 Oct 2025) EndedAt: 2025-10-30 11:09:20 -0400 (Thu, 30 Oct 2025) EllapsedTime: 28.5 seconds RetCode: 0 Status: OK PackageFile: CENTREprecomputed_1.1.0.tar.gz PackageFileSize: 225.8 KiB