Package: CLL Version: 1.49.0 Command: /home/biocbuild/bbs-3.22-bioc/R/bin/R CMD build --keep-empty-dirs --no-resave-data CLL StartedAt: 2025-07-08 11:09:57 -0400 (Tue, 08 Jul 2025) EndedAt: 2025-07-08 11:10:01 -0400 (Tue, 08 Jul 2025) EllapsedTime: 4.0 seconds RetCode: 0 Status: OK PackageFile: CLL_1.49.0.tar.gz PackageFileSize: 15.89 MiB