Package: CLL Version: 1.49.0 Command: /home/biocbuild/bbs-3.22-bioc/R/bin/R CMD INSTALL CLL StartedAt: 2025-07-08 10:56:19 -0400 (Tue, 08 Jul 2025) EndedAt: 2025-07-08 10:56:26 -0400 (Tue, 08 Jul 2025) EllapsedTime: 6.2 seconds RetCode: 0 Status: OK