Package: CLLmethylation Version: 1.31.0 Command: /home/biocbuild/bbs-3.23-bioc/R/bin/R CMD build --keep-empty-dirs --no-resave-data CLLmethylation StartedAt: 2025-10-30 11:09:24 -0400 (Thu, 30 Oct 2025) EndedAt: 2025-10-30 11:10:27 -0400 (Thu, 30 Oct 2025) EllapsedTime: 63.1 seconds RetCode: 0 Status: OK PackageFile: CLLmethylation_1.31.0.tar.gz PackageFileSize: 361.9 KiB