Package: CLLmethylation Version: 1.31.0 Command: /home/biocbuild/bbs-3.23-bioc/R/bin/R CMD INSTALL CLLmethylation StartedAt: 2025-10-30 10:59:52 -0400 (Thu, 30 Oct 2025) EndedAt: 2025-10-30 11:00:10 -0400 (Thu, 30 Oct 2025) EllapsedTime: 17.8 seconds RetCode: 0 Status: OK