Package: CLLmethylation Version: 1.29.0 Command: /home/biocbuild/bbs-3.22-bioc/R/bin/R CMD INSTALL CLLmethylation StartedAt: 2025-07-08 10:59:47 -0400 (Tue, 08 Jul 2025) EndedAt: 2025-07-08 11:00:03 -0400 (Tue, 08 Jul 2025) EllapsedTime: 16.7 seconds RetCode: 0 Status: OK