Package: COSMIC.67 Version: 1.47.0 Command: /home/biocbuild/bbs-3.23-bioc/R/bin/R CMD INSTALL COSMIC.67 StartedAt: 2025-11-04 11:03:48 -0500 (Tue, 04 Nov 2025) EndedAt: 2025-11-04 11:04:24 -0500 (Tue, 04 Nov 2025) EllapsedTime: 35.7 seconds RetCode: 0 Status: OK