Package: COSMIC.67 Version: 1.45.0 Command: /home/biocbuild/bbs-3.22-bioc/R/bin/R CMD check --install=check:COSMIC.67.install-out.txt --library=/home/biocbuild/bbs-3.22-bioc/R/site-library --timings COSMIC.67_1.45.0.tar.gz StartedAt: 2025-07-17 12:09:48 -0400 (Thu, 17 Jul 2025) EndedAt: 2025-07-17 12:15:34 -0400 (Thu, 17 Jul 2025) EllapsedTime: 345.9 seconds RetCode: 0 Status: OK CheckDir: COSMIC.67.Rcheck Warnings: 0