Package: COSMIC.67 Version: 1.45.0 Command: /home/biocbuild/bbs-3.22-bioc/R/bin/R CMD INSTALL COSMIC.67 StartedAt: 2025-07-08 11:03:36 -0400 (Tue, 08 Jul 2025) EndedAt: 2025-07-08 11:04:11 -0400 (Tue, 08 Jul 2025) EllapsedTime: 34.9 seconds RetCode: 0 Status: OK