Package: CRCL18 Version: 1.31.0 Command: /home/biocbuild/bbs-3.23-bioc/R/bin/R CMD build --keep-empty-dirs --no-resave-data CRCL18 StartedAt: 2025-11-04 11:13:25 -0500 (Tue, 04 Nov 2025) EndedAt: 2025-11-04 11:13:31 -0500 (Tue, 04 Nov 2025) EllapsedTime: 6.0 seconds RetCode: 0 Status: OK PackageFile: CRCL18_1.31.0.tar.gz PackageFileSize: 2.461 MiB