Package: CRCL18 Version: 1.31.0 Command: /home/biocbuild/bbs-3.23-bioc/R/bin/R CMD INSTALL CRCL18 StartedAt: 2025-11-04 10:56:39 -0500 (Tue, 04 Nov 2025) EndedAt: 2025-11-04 10:56:41 -0500 (Tue, 04 Nov 2025) EllapsedTime: 2.4 seconds RetCode: 0 Status: OK