Package: CRCL18 Version: 1.29.0 Command: /home/biocbuild/bbs-3.22-bioc/R/bin/R CMD INSTALL CRCL18 StartedAt: 2025-07-08 10:56:40 -0400 (Tue, 08 Jul 2025) EndedAt: 2025-07-08 10:56:44 -0400 (Tue, 08 Jul 2025) EllapsedTime: 4.2 seconds RetCode: 0 Status: OK