Package: CardinalWorkflows Version: 1.41.0 Command: /home/biocbuild/bbs-3.22-bioc/R/bin/R CMD build --keep-empty-dirs --no-resave-data CardinalWorkflows StartedAt: 2025-07-08 11:08:34 -0400 (Tue, 08 Jul 2025) EndedAt: 2025-07-08 11:56:20 -0400 (Tue, 08 Jul 2025) EllapsedTime: 2866.6 seconds RetCode: 0 Status: OK PackageFile: CardinalWorkflows_1.41.0.tar.gz PackageFileSize: 53.53 MiB