Package: CardinalWorkflows Version: 1.41.0 Command: /home/biocbuild/bbs-3.22-bioc/R/bin/R CMD check --install=check:CardinalWorkflows.install-out.txt --library=/home/biocbuild/bbs-3.22-bioc/R/site-library --timings CardinalWorkflows_1.41.0.tar.gz StartedAt: 2025-07-10 12:04:28 -0400 (Thu, 10 Jul 2025) EndedAt: 2025-07-10 13:03:22 -0400 (Thu, 10 Jul 2025) EllapsedTime: 3534.2 seconds RetCode: 0 Status: OK CheckDir: CardinalWorkflows.Rcheck Warnings: 0