Package: CellMapperData Version: 1.37.0 Command: /home/biocbuild/bbs-3.23-bioc/R/bin/R CMD check --install=check:CellMapperData.install-out.txt --library=/home/biocbuild/bbs-3.23-bioc/R/site-library --timings CellMapperData_1.37.0.tar.gz StartedAt: 2025-11-25 12:04:04 -0500 (Tue, 25 Nov 2025) EndedAt: 2025-11-25 12:05:07 -0500 (Tue, 25 Nov 2025) EllapsedTime: 62.6 seconds RetCode: 0 Status: OK CheckDir: CellMapperData.Rcheck Warnings: 0