Package: ChAMPdata Version: 2.43.0 Command: /home/biocbuild/bbs-3.23-bioc/R/bin/R CMD build --keep-empty-dirs --no-resave-data ChAMPdata StartedAt: 2025-11-20 11:09:41 -0500 (Thu, 20 Nov 2025) EndedAt: 2025-11-20 11:10:34 -0500 (Thu, 20 Nov 2025) EllapsedTime: 52.4 seconds RetCode: 0 Status: OK PackageFile: ChAMPdata_2.43.0.tar.gz PackageFileSize: 667.1 MiB