Package: ChAMPdata Version: 2.41.0 Command: /home/biocbuild/bbs-3.22-bioc/R/bin/R CMD build --keep-empty-dirs --no-resave-data ChAMPdata StartedAt: 2025-07-10 11:10:14 -0400 (Thu, 10 Jul 2025) EndedAt: 2025-07-10 11:11:08 -0400 (Thu, 10 Jul 2025) EllapsedTime: 53.3 seconds RetCode: 0 Status: OK PackageFile: ChAMPdata_2.41.0.tar.gz PackageFileSize: 667.1 MiB