Package: ChIPDBData Version: 1.1.0 Command: /home/biocbuild/bbs-3.23-bioc/R/bin/R CMD INSTALL ChIPDBData StartedAt: 2025-10-30 10:57:28 -0400 (Thu, 30 Oct 2025) EndedAt: 2025-10-30 10:57:29 -0400 (Thu, 30 Oct 2025) EllapsedTime: 1.3 seconds RetCode: 0 Status: OK