Package: ChIPDBData Version: 0.99.7 Command: /home/biocbuild/bbs-3.22-bioc/R/bin/R CMD INSTALL ChIPDBData StartedAt: 2025-10-09 10:57:13 -0400 (Thu, 09 Oct 2025) EndedAt: 2025-10-09 10:57:15 -0400 (Thu, 09 Oct 2025) EllapsedTime: 1.5 seconds RetCode: 0 Status: OK