Package: ChIPXpressData Version: 1.47.0 Maintainer: George Wu MaintainerEmail: gewu at jhsph.edu git_url: https://git.bioconductor.org/packages/ChIPXpressData git_branch: devel git_last_commit: ff299d6 git_last_commit_date: 2025-04-15 09:19:57 -0400 (Tue, 15 Apr 2025)