Package: ChIPXpressData Version: 1.47.0 Command: /home/biocbuild/bbs-3.22-bioc/R/bin/R CMD build --keep-empty-dirs --no-resave-data ChIPXpressData StartedAt: 2025-07-08 11:09:41 -0400 (Tue, 08 Jul 2025) EndedAt: 2025-07-08 11:14:48 -0400 (Tue, 08 Jul 2025) EllapsedTime: 307.3 seconds RetCode: 0 Status: OK PackageFile: ChIPXpressData_1.47.0.tar.gz PackageFileSize: 3.171 GiB