Package: ChimpHumanBrainData Version: 1.47.0 Command: /home/biocbuild/bbs-3.22-bioc/R/bin/R CMD INSTALL ChimpHumanBrainData StartedAt: 2025-07-08 10:56:33 -0400 (Tue, 08 Jul 2025) EndedAt: 2025-07-08 10:56:43 -0400 (Tue, 08 Jul 2025) EllapsedTime: 10.1 seconds RetCode: 0 Status: OK