Package: CluMSIDdata Version: 1.27.0 Command: /home/biocbuild/bbs-3.23-bioc/R/bin/R CMD build --keep-empty-dirs --no-resave-data CluMSIDdata StartedAt: 2025-10-30 11:09:28 -0400 (Thu, 30 Oct 2025) EndedAt: 2025-10-30 11:10:36 -0400 (Thu, 30 Oct 2025) EllapsedTime: 68.0 seconds RetCode: 0 Status: OK PackageFile: CluMSIDdata_1.27.0.tar.gz PackageFileSize: 47.27 MiB