Package: CoSIAdata Version: 1.9.0 Command: /home/biocbuild/bbs-3.22-bioc/R/bin/R CMD build --keep-empty-dirs --no-resave-data CoSIAdata StartedAt: 2025-07-10 11:11:58 -0400 (Thu, 10 Jul 2025) EndedAt: 2025-07-10 11:12:22 -0400 (Thu, 10 Jul 2025) EllapsedTime: 23.4 seconds RetCode: 0 Status: OK PackageFile: CoSIAdata_1.9.0.tar.gz PackageFileSize: 296.3 KiB