Package: CoSIAdata Version: 1.9.0 Command: /home/biocbuild/bbs-3.22-bioc/R/bin/R CMD INSTALL CoSIAdata StartedAt: 2025-07-10 10:57:03 -0400 (Thu, 10 Jul 2025) EndedAt: 2025-07-10 10:57:21 -0400 (Thu, 10 Jul 2025) EllapsedTime: 17.7 seconds RetCode: 0 Status: OK