Package: ConnectivityMap Version: 1.47.0 Command: /home/biocbuild/bbs-3.23-bioc/R/bin/R CMD build --keep-empty-dirs --no-resave-data ConnectivityMap StartedAt: 2025-11-04 11:13:06 -0500 (Tue, 04 Nov 2025) EndedAt: 2025-11-04 11:13:22 -0500 (Tue, 04 Nov 2025) EllapsedTime: 16.2 seconds RetCode: 0 Status: OK PackageFile: ConnectivityMap_1.47.0.tar.gz PackageFileSize: 236.7 MiB